BEGIN:VCALENDAR
VERSION:2.0
PRODID:-//Ecolinc - ECPv5.4.0//NONSGML v1.0//EN
CALSCALE:GREGORIAN
METHOD:PUBLISH
X-WR-CALNAME:Ecolinc
X-ORIGINAL-URL:https://learnonline.ecolinc.vic.edu.au
X-WR-CALDESC:Events for Ecolinc
BEGIN:VTIMEZONE
TZID:UTC
BEGIN:STANDARD
TZOFFSETFROM:+0000
TZOFFSETTO:+0000
TZNAME:UTC
DTSTART:20200101T000000
END:STANDARD
END:VTIMEZONE
BEGIN:VEVENT
DTSTART;TZID=UTC:20201203T140000
DTEND;TZID=UTC:20201203T150000
DTSTAMP:20210301T164019
CREATED:20200320T003829Z
LAST-MODIFIED:20200721T034036Z
UID:7158-1607004000-1607007600@learnonline.ecolinc.vic.edu.au
SUMMARY:(Yrs 3-6) Animal Lifecycles
DESCRIPTION:New in 2020!  \nDial in and let Ranger Nicole engage your students up close and personal with Ecolinc animals to explore their lifecycles. Understand that different animals have different life cycles and that environmental factors can affect these life cycles \nUsing interactive video conferencing equipment or using a laptop and webcam\, your students can expand their scientific experience via live\, multi-media presentations. Using inquiry-based learning\, these 55 minutes presentations incorporate live animals such as macro-invertebrates\, turtles\, fish and frogs. \n \nHow do I dial in? \nOnce your booking has been confirmed you will be sent the dial-in details.  You will be able to access from your classroom by projecting your laptop onto your whiteboard or using a Polycom mobile monitor if you have one.  The dial in details can be used by: \n\nZOOM\nCISCO Webex (Victorian schools/teachers have access to Webex)\n\n \nHow can I use the new CISCO Webex on my own laptop to connect to this event?  \nEcolinc will provide an easy-to-follow details to get you started.  Click here for full details. \nBook through our STEMLinc page here. \n 
URL:https://learnonline.ecolinc.vic.edu.au/event/yrs-3-6-eat-or-be-eaten-wetlands-2-3-pm/
ATTACH;FMTTYPE=image/jpeg:https://learnonline.ecolinc.vic.edu.au/wp-content/uploads/2020/03/frog.jpg
END:VEVENT
END:VCALENDAR