BEGIN:VCALENDAR
VERSION:2.0
PRODID:-//Ecolinc - ECPv5.4.0//NONSGML v1.0//EN
CALSCALE:GREGORIAN
METHOD:PUBLISH
X-WR-CALNAME:Ecolinc
X-ORIGINAL-URL:https://learnonline.ecolinc.vic.edu.au
X-WR-CALDESC:Events for Ecolinc
BEGIN:VTIMEZONE
TZID:UTC
BEGIN:STANDARD
TZOFFSETFROM:+0000
TZOFFSETTO:+0000
TZNAME:UTC
DTSTART:20200101T000000
END:STANDARD
END:VTIMEZONE
BEGIN:VEVENT
DTSTART;TZID=UTC:20201202T140000
DTEND;TZID=UTC:20201202T150000
DTSTAMP:20210301T164007
CREATED:20191106T032141Z
LAST-MODIFIED:20200721T033640Z
UID:6690-1606917600-1606921200@learnonline.ecolinc.vic.edu.au
SUMMARY:(Yrs 3-6)Fantastic Beasts: Animal Life Cycles & Adaptations
DESCRIPTION:Visit the Ecolinc Lizard Lounge with Professor Noah Lott and discover the structural features and adaptations that help animals to survive in their environment. How is the growth and survival of living things impacted on by the physical conditions of their environment?  Meet two of our lizard stars Rocky\, Richmond\, Caramel and Tyrant  during this live dial-in event. \n\n\nHow do I dial in?\nOnce your booking has been confirmed you will be sent the dial-in details.  You will be able to access from your classroom by projecting your laptop onto your whiteboard or using a Polycom mobile monitor if you have one.  The dial in details can be used by: \n\nCISCO Webex (Victorian schools/teachers have access to Webex)\nZOOM\n\n \nHow can I use the new CISCO Webex on my own laptop to connect to this event?  \nEcolinc will provide an easy-to-follow details to get you started.  Click here for full details. \nReserve your place!  Book through our STEMLinc page today to avoid disappointment. \nBook through our STEMLinc page here.
URL:https://learnonline.ecolinc.vic.edu.au/event/yrs-3-6animal-life-cycles-adaptations-february-18th-2-3-pm/
CATEGORIES:Featured events
ATTACH;FMTTYPE=image/jpeg:https://learnonline.ecolinc.vic.edu.au/wp-content/uploads/2019/05/stumpy-4.jpg
END:VEVENT
END:VCALENDAR